BEGIN:VCALENDAR
VERSION:2.0
PRODID:-//Mt. Tabor Spring Cleanup//EN
CALSCALE:GREGORIAN
METHOD:PUBLISH
BEGIN:VEVENT
UID:mt-tabor-spring-cleanup-20260425@neighborhood
DTSTART:20260425T090000
DTEND:20260425T130000
SUMMARY:Mt. Tabor/North Tabor Spring Cleanup
LOCATION:Unity Spiritual Center Parking Lot\, SE 47th & Stark\, Portland\, OR
DESCRIPTION:The Mt. Tabor/North Tabor Spring Cleanup is collecting:\n\n• Bulky waste\n• Metal recycling\n• Electronics recycling\n• Styrofoam recycling\n• Re-use items\n\nVolunteer Info:\n- Reflective safety vests provided\n- Wear appropriate footwear for standing/walking\n- Dress for the weather (some positions have no shade)\n- Bring work gloves if you'll be unloading/loading\n- Please be courteous and friendly with attendees\n\n"It's a fair bit of work\, but it sure is FUN!"
STATUS:CONFIRMED
TRANSP:OPAQUE
END:VEVENT
END:VCALENDAR
